BEGIN:VCALENDAR
VERSION:2.0
PRODID:-//Hopatcong Elementary PTO - ECPv6.15.20//NONSGML v1.0//EN
CALSCALE:GREGORIAN
METHOD:PUBLISH
X-WR-CALNAME:Hopatcong Elementary PTO
X-ORIGINAL-URL:https://hopatcongpto.org
X-WR-CALDESC:Events for Hopatcong Elementary PTO
REFRESH-INTERVAL;VALUE=DURATION:PT1H
X-Robots-Tag:noindex
X-PUBLISHED-TTL:PT1H
BEGIN:VTIMEZONE
TZID:UTC
BEGIN:STANDARD
TZOFFSETFROM:+0000
TZOFFSETTO:+0000
TZNAME:UTC
DTSTART:20240101T000000
END:STANDARD
END:VTIMEZONE
BEGIN:VEVENT
DTSTART;TZID=UTC:20250825T180000
DTEND;TZID=UTC:20250825T190000
DTSTAMP:20260422T114410
CREATED:20250820T231102Z
LAST-MODIFIED:20250820T231512Z
UID:1814-1756144800-1756148400@hopatcongpto.org
SUMMARY:Kindergarten Parent Orientation
DESCRIPTION:Kindergarten Parent Orientation. This is a parent only no students event.
URL:https://hopatcongpto.org/event/kindergarten-parent-orientation/
CATEGORIES:Durban Ave School
END:VEVENT
BEGIN:VEVENT
DTSTART;TZID=UTC:20250828T130000
DTEND;TZID=UTC:20250828T140000
DTSTAMP:20260422T114410
CREATED:20250820T230856Z
LAST-MODIFIED:20250820T231523Z
UID:1812-1756386000-1756389600@hopatcongpto.org
SUMMARY:Durban Open House
DESCRIPTION:Durban Open House 1:00pm \nKindergarten signing hosted by HEPTO 1:00pm outside Durban Ave School. Can’t wait to meet all the incoming kindergarteners.
URL:https://hopatcongpto.org/event/durban-open-house/
CATEGORIES:Durban Ave School
END:VEVENT
END:VCALENDAR