BEGIN:VCALENDAR
VERSION:2.0
PRODID:-//Hopatcong Elementary PTO - ECPv6.15.20//NONSGML v1.0//EN
CALSCALE:GREGORIAN
METHOD:PUBLISH
X-WR-CALNAME:Hopatcong Elementary PTO
X-ORIGINAL-URL:https://hopatcongpto.org
X-WR-CALDESC:Events for Hopatcong Elementary PTO
REFRESH-INTERVAL;VALUE=DURATION:PT1H
X-Robots-Tag:noindex
X-PUBLISHED-TTL:PT1H
BEGIN:VTIMEZONE
TZID:UTC
BEGIN:STANDARD
TZOFFSETFROM:+0000
TZOFFSETTO:+0000
TZNAME:UTC
DTSTART:20240101T000000
END:STANDARD
END:VTIMEZONE
BEGIN:VEVENT
DTSTART;TZID=UTC:20250916T180000
DTEND;TZID=UTC:20250916T180000
DTSTAMP:20260422T095917
CREATED:20250820T233205Z
LAST-MODIFIED:20250820T233558Z
UID:1827-1758045600-1758045600@hopatcongpto.org
SUMMARY:Durban Back to School
DESCRIPTION:Durban Back to School Night for parents!
URL:https://hopatcongpto.org/event/durban-back-to-school/
LOCATION:Dubran Ave School
CATEGORIES:Durban Ave School
END:VEVENT
BEGIN:VEVENT
DTSTART;VALUE=DATE:20250929
DTEND;VALUE=DATE:20250930
DTSTAMP:20260422T095917
CREATED:20250820T234225Z
LAST-MODIFIED:20250820T234444Z
UID:1837-1759104000-1759190399@hopatcongpto.org
SUMMARY:Durban Fall School Pictures
DESCRIPTION:Durban fall school pictures. Send your child in with their best smile!
URL:https://hopatcongpto.org/event/durban-fall-school-pictures/
CATEGORIES:Durban Ave School
END:VEVENT
END:VCALENDAR