BEGIN:VCALENDAR
VERSION:2.0
PRODID:-//Hopatcong Elementary PTO - ECPv6.15.20//NONSGML v1.0//EN
CALSCALE:GREGORIAN
METHOD:PUBLISH
X-ORIGINAL-URL:https://hopatcongpto.org
X-WR-CALDESC:Events for Hopatcong Elementary PTO
REFRESH-INTERVAL;VALUE=DURATION:PT1H
X-Robots-Tag:noindex
X-PUBLISHED-TTL:PT1H
BEGIN:VTIMEZONE
TZID:UTC
BEGIN:STANDARD
TZOFFSETFROM:+0000
TZOFFSETTO:+0000
TZNAME:UTC
DTSTART:20250101T000000
END:STANDARD
END:VTIMEZONE
BEGIN:VEVENT
DTSTART;VALUE=DATE:20260306
DTEND;VALUE=DATE:20260307
DTSTAMP:20260421T225531
CREATED:20250821T151126Z
LAST-MODIFIED:20250821T151126Z
UID:1895-1772755200-1772841599@hopatcongpto.org
SUMMARY:Durban Spring Pictures
DESCRIPTION:Durban spring school pictures. Send your child in with their best smile!
URL:https://hopatcongpto.org/event/durban-spring-pictures/
CATEGORIES:Durban Ave School
END:VEVENT
BEGIN:VEVENT
DTSTART;VALUE=DATE:20260313
DTEND;VALUE=DATE:20260314
DTSTAMP:20260421T225531
CREATED:20250821T151347Z
LAST-MODIFIED:20250821T151347Z
UID:1901-1773360000-1773446399@hopatcongpto.org
SUMMARY:Durban Author Visit
DESCRIPTION:More information will come from Durban School.
URL:https://hopatcongpto.org/event/durban-author-visit/
CATEGORIES:Durban Ave School
END:VEVENT
END:VCALENDAR