BEGIN:VCALENDAR
VERSION:2.0
PRODID:-//Hopatcong Elementary PTO - ECPv6.15.20//NONSGML v1.0//EN
CALSCALE:GREGORIAN
METHOD:PUBLISH
X-WR-CALNAME:Hopatcong Elementary PTO
X-ORIGINAL-URL:https://hopatcongpto.org
X-WR-CALDESC:Events for Hopatcong Elementary PTO
REFRESH-INTERVAL;VALUE=DURATION:PT1H
X-Robots-Tag:noindex
X-PUBLISHED-TTL:PT1H
BEGIN:VTIMEZONE
TZID:UTC
BEGIN:STANDARD
TZOFFSETFROM:+0000
TZOFFSETTO:+0000
TZNAME:UTC
DTSTART:20250101T000000
END:STANDARD
END:VTIMEZONE
BEGIN:VEVENT
DTSTART;VALUE=DATE:20260504
DTEND;VALUE=DATE:20260509
DTSTAMP:20260421T225035
CREATED:20250821T152004Z
LAST-MODIFIED:20250821T152004Z
UID:1915-1777852800-1778284799@hopatcongpto.org
SUMMARY:Durban BOGO Book Fair
DESCRIPTION:Durban School Book Fair- Buy one\, get one free!!! More information will be sent home.
URL:https://hopatcongpto.org/event/durban-bogo-book-fair/
CATEGORIES:Durban Ave School
END:VEVENT
BEGIN:VEVENT
DTSTART;VALUE=DATE:20260528
DTEND;VALUE=DATE:20260529
DTSTAMP:20260421T225035
CREATED:20250821T152333Z
LAST-MODIFIED:20250821T152333Z
UID:1923-1779926400-1780012799@hopatcongpto.org
SUMMARY:Durban Fun Day
DESCRIPTION:Durban Fun Day- Look for information about volunteering!
URL:https://hopatcongpto.org/event/durban-fun-day/
LOCATION:Dubran Ave School
CATEGORIES:Durban Ave School
END:VEVENT
BEGIN:VEVENT
DTSTART;VALUE=DATE:20260529
DTEND;VALUE=DATE:20260530
DTSTAMP:20260421T225035
CREATED:20250821T152358Z
LAST-MODIFIED:20250821T152358Z
UID:1925-1780012800-1780099199@hopatcongpto.org
SUMMARY:Durban Fun Day Rain Date
DESCRIPTION:Durban Fun Day Rain Date
URL:https://hopatcongpto.org/event/durban-fun-day-rain-date/
LOCATION:Dubran Ave School
CATEGORIES:Durban Ave School
END:VEVENT
END:VCALENDAR