BEGIN:VCALENDAR
VERSION:2.0
PRODID:-//Hopatcong Elementary PTO - ECPv6.15.20//NONSGML v1.0//EN
CALSCALE:GREGORIAN
METHOD:PUBLISH
X-WR-CALNAME:Hopatcong Elementary PTO
X-ORIGINAL-URL:https://hopatcongpto.org
X-WR-CALDESC:Events for Hopatcong Elementary PTO
REFRESH-INTERVAL;VALUE=DURATION:PT1H
X-Robots-Tag:noindex
X-PUBLISHED-TTL:PT1H
BEGIN:VTIMEZONE
TZID:UTC
BEGIN:STANDARD
TZOFFSETFROM:+0000
TZOFFSETTO:+0000
TZNAME:UTC
DTSTART:20240101T000000
END:STANDARD
END:VTIMEZONE
BEGIN:VEVENT
DTSTART;VALUE=DATE:20251115
DTEND;VALUE=DATE:20251116
DTSTAMP:20260424T082914
CREATED:20250821T145904Z
LAST-MODIFIED:20250821T145904Z
UID:1873-1763164800-1763251199@hopatcongpto.org
SUMMARY:Family Picture Fundraiser
DESCRIPTION:Come use our backdrops to get some nice family photos! There will be volunteers available to help with photo taking. Time: TBD
URL:https://hopatcongpto.org/event/family-picture-fundraiser/
CATEGORIES:Fundraising
END:VEVENT
END:VCALENDAR