BEGIN:VCALENDAR
VERSION:2.0
PRODID:-//Hopatcong Elementary PTO - ECPv6.15.20//NONSGML v1.0//EN
CALSCALE:GREGORIAN
METHOD:PUBLISH
X-ORIGINAL-URL:https://hopatcongpto.org
X-WR-CALDESC:Events for Hopatcong Elementary PTO
REFRESH-INTERVAL;VALUE=DURATION:PT1H
X-Robots-Tag:noindex
X-PUBLISHED-TTL:PT1H
BEGIN:VTIMEZONE
TZID:UTC
BEGIN:STANDARD
TZOFFSETFROM:+0000
TZOFFSETTO:+0000
TZNAME:UTC
DTSTART:20250101T000000
END:STANDARD
END:VTIMEZONE
BEGIN:VEVENT
DTSTART;TZID=UTC:20260312T181500
DTEND;TZID=UTC:20260312T193000
DTSTAMP:20260421T195844
CREATED:20250821T151256Z
LAST-MODIFIED:20250821T151256Z
UID:1899-1773339300-1773343800@hopatcongpto.org
SUMMARY:HEPTO Meeting
DESCRIPTION:HEPTO General Meeting. Come join us for our meeting and share your thoughts and ideas. Meeting will be held in the library at Durban School
URL:https://hopatcongpto.org/event/hepto-meeting-6/
LOCATION:Dubran Ave School
CATEGORIES:HEPTO Meeting
END:VEVENT
END:VCALENDAR