BEGIN:VCALENDAR
VERSION:2.0
PRODID:-//Hopatcong Elementary PTO - ECPv6.15.20//NONSGML v1.0//EN
CALSCALE:GREGORIAN
METHOD:PUBLISH
X-WR-CALNAME:Hopatcong Elementary PTO
X-ORIGINAL-URL:https://hopatcongpto.org
X-WR-CALDESC:Events for Hopatcong Elementary PTO
REFRESH-INTERVAL;VALUE=DURATION:PT1H
X-Robots-Tag:noindex
X-PUBLISHED-TTL:PT1H
BEGIN:VTIMEZONE
TZID:UTC
BEGIN:STANDARD
TZOFFSETFROM:+0000
TZOFFSETTO:+0000
TZNAME:UTC
DTSTART:20240101T000000
END:STANDARD
END:VTIMEZONE
BEGIN:VEVENT
DTSTART;TZID=UTC:20250909T180000
DTEND;TZID=UTC:20250909T190000
DTSTAMP:20260422T101033
CREATED:20250820T232815Z
LAST-MODIFIED:20250820T232928Z
UID:1821-1757440800-1757444400@hopatcongpto.org
SUMMARY:Middle School Back to School 4th & 5th
DESCRIPTION:Middle School Back to School Night for 4th and 5th grade parents!
URL:https://hopatcongpto.org/event/middle-school-back-to-school-4th-5th/
LOCATION:Middle School\, 1 David Road\, Hopatcong\, NJ\, 07843\, United States
CATEGORIES:Middle School
END:VEVENT
BEGIN:VEVENT
DTSTART;TZID=UTC:20250910T180000
DTEND;TZID=UTC:20250910T190000
DTSTAMP:20260422T101033
CREATED:20250820T232908Z
LAST-MODIFIED:20250820T232908Z
UID:1823-1757527200-1757530800@hopatcongpto.org
SUMMARY:Middle School Back to School 6th & 7th
DESCRIPTION:Middle School Back to School night 6th & 7th parents.
URL:https://hopatcongpto.org/event/middle-school-back-to-school-6th-7th/
LOCATION:Middle School\, 1 David Road\, Hopatcong\, NJ\, 07843\, United States
CATEGORIES:Middle School
END:VEVENT
BEGIN:VEVENT
DTSTART;VALUE=DATE:20250923
DTEND;VALUE=DATE:20250924
DTSTAMP:20260422T101033
CREATED:20250820T233739Z
LAST-MODIFIED:20250820T233739Z
UID:1833-1758585600-1758671999@hopatcongpto.org
SUMMARY:4th & 5th Fall School Pictures
DESCRIPTION:Middle School 4th & 5th school pictures. Send your child in with their best smile!
URL:https://hopatcongpto.org/event/4th-5th-fall-school-pictures/
LOCATION:NJ
CATEGORIES:Middle School
END:VEVENT
BEGIN:VEVENT
DTSTART;VALUE=DATE:20250924
DTEND;VALUE=DATE:20250925
DTSTAMP:20260422T101033
CREATED:20250820T233812Z
LAST-MODIFIED:20250820T233812Z
UID:1835-1758672000-1758758399@hopatcongpto.org
SUMMARY:6th & 7th Fall School Pictures
DESCRIPTION:Middle School 6th & 7th school pictures. Send your child in with their best smile!
URL:https://hopatcongpto.org/event/6th-7th-fall-school-pictures/
LOCATION:NJ
CATEGORIES:Middle School
END:VEVENT
BEGIN:VEVENT
DTSTART;VALUE=DATE:20250929
DTEND;VALUE=DATE:20251004
DTSTAMP:20260422T101033
CREATED:20250820T234540Z
LAST-MODIFIED:20250820T234540Z
UID:1839-1759104000-1759535999@hopatcongpto.org
SUMMARY:Middle School Fall Book Fair
DESCRIPTION:Middle School fall book fair!
URL:https://hopatcongpto.org/event/middle-school-fall-book-fair/
LOCATION:NJ
CATEGORIES:Middle School
END:VEVENT
END:VCALENDAR