BEGIN:VCALENDAR
VERSION:2.0
PRODID:-//Hopatcong Elementary PTO - ECPv6.15.20//NONSGML v1.0//EN
CALSCALE:GREGORIAN
METHOD:PUBLISH
X-ORIGINAL-URL:https://hopatcongpto.org
X-WR-CALDESC:Events for Hopatcong Elementary PTO
REFRESH-INTERVAL;VALUE=DURATION:PT1H
X-Robots-Tag:noindex
X-PUBLISHED-TTL:PT1H
BEGIN:VTIMEZONE
TZID:UTC
BEGIN:STANDARD
TZOFFSETFROM:+0000
TZOFFSETTO:+0000
TZNAME:UTC
DTSTART:20240101T000000
END:STANDARD
END:VTIMEZONE
BEGIN:VEVENT
DTSTART;VALUE=DATE:20250929
DTEND;VALUE=DATE:20251004
DTSTAMP:20260422T083538
CREATED:20250820T234540Z
LAST-MODIFIED:20250820T234540Z
UID:1839-1759104000-1759535999@hopatcongpto.org
SUMMARY:Middle School Fall Book Fair
DESCRIPTION:Middle School fall book fair!
URL:https://hopatcongpto.org/event/middle-school-fall-book-fair/
LOCATION:NJ
CATEGORIES:Middle School
END:VEVENT
END:VCALENDAR