BEGIN:VCALENDAR
VERSION:2.0
PRODID:-//Hopatcong Elementary PTO - ECPv6.15.20//NONSGML v1.0//EN
CALSCALE:GREGORIAN
METHOD:PUBLISH
X-ORIGINAL-URL:https://hopatcongpto.org
X-WR-CALDESC:Events for Hopatcong Elementary PTO
REFRESH-INTERVAL;VALUE=DURATION:PT1H
X-Robots-Tag:noindex
X-PUBLISHED-TTL:PT1H
BEGIN:VTIMEZONE
TZID:UTC
BEGIN:STANDARD
TZOFFSETFROM:+0000
TZOFFSETTO:+0000
TZNAME:UTC
DTSTART:20240101T000000
END:STANDARD
END:VTIMEZONE
BEGIN:VEVENT
DTSTART;TZID=UTC:20250828T130000
DTEND;TZID=UTC:20250828T140000
DTSTAMP:20260424T165625
CREATED:20250820T230734Z
LAST-MODIFIED:20250820T231655Z
UID:1810-1756386000-1756389600@hopatcongpto.org
SUMMARY:Tulsa Open House
DESCRIPTION:Tulsa Open House 1:00pm
URL:https://hopatcongpto.org/event/tulsa-open-house/
CATEGORIES:Tulsa Trail School
END:VEVENT
END:VCALENDAR