BEGIN:VCALENDAR
VERSION:2.0
PRODID:-//Hopatcong Elementary PTO - ECPv6.15.20//NONSGML v1.0//EN
CALSCALE:GREGORIAN
METHOD:PUBLISH
X-ORIGINAL-URL:https://hopatcongpto.org
X-WR-CALDESC:Events for Hopatcong Elementary PTO
REFRESH-INTERVAL;VALUE=DURATION:PT1H
X-Robots-Tag:noindex
X-PUBLISHED-TTL:PT1H
BEGIN:VTIMEZONE
TZID:UTC
BEGIN:STANDARD
TZOFFSETFROM:+0000
TZOFFSETTO:+0000
TZNAME:UTC
DTSTART:20240101T000000
END:STANDARD
END:VTIMEZONE
BEGIN:VEVENT
DTSTART;VALUE=DATE:20251114
DTEND;VALUE=DATE:20251115
DTSTAMP:20260424T101819
CREATED:20250821T144213Z
LAST-MODIFIED:20250821T144617Z
UID:1869-1763078400-1763164799@hopatcongpto.org
SUMMARY:Tulsa Fall Pictures Make-Ups
DESCRIPTION:Tulsa Fall Pictures Make-Ups
URL:https://hopatcongpto.org/event/tulsa-fall-pictures-make-ups/
CATEGORIES:Tulsa Trail School
END:VEVENT
END:VCALENDAR