BEGIN:VCALENDAR
VERSION:2.0
PRODID:-//Hopatcong Elementary PTO - ECPv6.15.20//NONSGML v1.0//EN
CALSCALE:GREGORIAN
METHOD:PUBLISH
X-ORIGINAL-URL:https://hopatcongpto.org
X-WR-CALDESC:Events for Hopatcong Elementary PTO
REFRESH-INTERVAL;VALUE=DURATION:PT1H
X-Robots-Tag:noindex
X-PUBLISHED-TTL:PT1H
BEGIN:VTIMEZONE
TZID:UTC
BEGIN:STANDARD
TZOFFSETFROM:+0000
TZOFFSETTO:+0000
TZNAME:UTC
DTSTART:20250101T000000
END:STANDARD
END:VTIMEZONE
BEGIN:VEVENT
DTSTART;VALUE=DATE:20260306
DTEND;VALUE=DATE:20260307
DTSTAMP:20260422T070635
CREATED:20250821T151154Z
LAST-MODIFIED:20250821T151154Z
UID:1897-1772755200-1772841599@hopatcongpto.org
SUMMARY:Tulsa Spring Pictures
DESCRIPTION:Tulsa spring school pictures. Send your child in with their best smile!
URL:https://hopatcongpto.org/event/tulsa-spring-pictures/
CATEGORIES:Tulsa Trail School
END:VEVENT
END:VCALENDAR