BEGIN:VCALENDAR
VERSION:2.0
PRODID:-//Hopatcong Elementary PTO - ECPv6.15.20//NONSGML v1.0//EN
CALSCALE:GREGORIAN
METHOD:PUBLISH
X-ORIGINAL-URL:https://hopatcongpto.org
X-WR-CALDESC:Events for Hopatcong Elementary PTO
REFRESH-INTERVAL;VALUE=DURATION:PT1H
X-Robots-Tag:noindex
X-PUBLISHED-TTL:PT1H
BEGIN:VTIMEZONE
TZID:UTC
BEGIN:STANDARD
TZOFFSETFROM:+0000
TZOFFSETTO:+0000
TZNAME:UTC
DTSTART:20240101T000000
END:STANDARD
END:VTIMEZONE
BEGIN:VEVENT
DTSTART;TZID=UTC:20250403T181500
DTEND;TZID=UTC:20250403T200000
DTSTAMP:20260425T122515
CREATED:20250124T211504Z
LAST-MODIFIED:20250124T211536Z
UID:1585-1743704100-1743710400@hopatcongpto.org
SUMMARY:HEPTO Meeting - April 3
DESCRIPTION:Meeting is at Durban Ave School at 6:15pm
URL:https://hopatcongpto.org/event/hepto-meeting-april-3/
LOCATION:Dubran Ave School
END:VEVENT
END:VCALENDAR