BEGIN:VCALENDAR
VERSION:2.0
PRODID:-//Hopatcong Elementary PTO - ECPv6.15.20//NONSGML v1.0//EN
CALSCALE:GREGORIAN
METHOD:PUBLISH
X-WR-CALNAME:Hopatcong Elementary PTO
X-ORIGINAL-URL:https://hopatcongpto.org
X-WR-CALDESC:Events for Hopatcong Elementary PTO
REFRESH-INTERVAL;VALUE=DURATION:PT1H
X-Robots-Tag:noindex
X-PUBLISHED-TTL:PT1H
BEGIN:VTIMEZONE
TZID:UTC
BEGIN:STANDARD
TZOFFSETFROM:+0000
TZOFFSETTO:+0000
TZNAME:UTC
DTSTART:20240101T000000
END:STANDARD
END:VTIMEZONE
BEGIN:VEVENT
DTSTART;VALUE=DATE:20250902
DTEND;VALUE=DATE:20250903
DTSTAMP:20260423T024250
CREATED:20250820T225537Z
LAST-MODIFIED:20250820T225537Z
UID:1803-1756771200-1756857599@hopatcongpto.org
SUMMARY:First Day of School
DESCRIPTION:First day of school for students!!
URL:https://hopatcongpto.org/event/first-day-of-school/
CATEGORIES:District
END:VEVENT
BEGIN:VEVENT
DTSTART;VALUE=DATE:20250908
DTEND;VALUE=DATE:20250930
DTSTAMP:20260423T024250
CREATED:20250821T001313Z
LAST-MODIFIED:20250821T001313Z
UID:1855-1757289600-1759190399@hopatcongpto.org
SUMMARY:Vertical Discount Card Fundraiser
DESCRIPTION:Vertical Discount Cards. More information will be sent home.
URL:https://hopatcongpto.org/event/vertical-discount-card-fundraiser/
CATEGORIES:Fundraising
END:VEVENT
BEGIN:VEVENT
DTSTART;TZID=UTC:20250908T181500
DTEND;TZID=UTC:20250908T193000
DTSTAMP:20260423T024250
CREATED:20250820T231317Z
LAST-MODIFIED:20250820T231317Z
UID:1816-1757355300-1757359800@hopatcongpto.org
SUMMARY:HEPTO Meeting
DESCRIPTION:HEPTO General Meeting. Come join us for our meeting and share your thoughts and ideas. Meeting will be held in the cafeteria in the Middle School.
URL:https://hopatcongpto.org/event/hepto-meeting/
LOCATION:Middle School\, 1 David Road\, Hopatcong\, NJ\, 07843\, United States
CATEGORIES:HEPTO Meeting
END:VEVENT
BEGIN:VEVENT
DTSTART;TZID=UTC:20250909T180000
DTEND;TZID=UTC:20250909T190000
DTSTAMP:20260423T024250
CREATED:20250820T232815Z
LAST-MODIFIED:20250820T232928Z
UID:1821-1757440800-1757444400@hopatcongpto.org
SUMMARY:Middle School Back to School 4th & 5th
DESCRIPTION:Middle School Back to School Night for 4th and 5th grade parents!
URL:https://hopatcongpto.org/event/middle-school-back-to-school-4th-5th/
LOCATION:Middle School\, 1 David Road\, Hopatcong\, NJ\, 07843\, United States
CATEGORIES:Middle School
END:VEVENT
BEGIN:VEVENT
DTSTART;TZID=UTC:20250910T180000
DTEND;TZID=UTC:20250910T190000
DTSTAMP:20260423T024250
CREATED:20250820T232908Z
LAST-MODIFIED:20250820T232908Z
UID:1823-1757527200-1757530800@hopatcongpto.org
SUMMARY:Middle School Back to School 6th & 7th
DESCRIPTION:Middle School Back to School night 6th & 7th parents.
URL:https://hopatcongpto.org/event/middle-school-back-to-school-6th-7th/
LOCATION:Middle School\, 1 David Road\, Hopatcong\, NJ\, 07843\, United States
CATEGORIES:Middle School
END:VEVENT
BEGIN:VEVENT
DTSTART;TZID=UTC:20250912T183000
DTEND;TZID=UTC:20250912T193000
DTSTAMP:20260423T024250
CREATED:20250820T232333Z
LAST-MODIFIED:20250820T232356Z
UID:1818-1757701800-1757705400@hopatcongpto.org
SUMMARY:Ice Cream Social
DESCRIPTION:Welcome back to school! Come join us for a free ice cream and face painting.
URL:https://hopatcongpto.org/event/ice-cream-social/
LOCATION:Tulsa Trail School
CATEGORIES:Ice Cream Social
ATTACH;FMTTYPE=image/jpeg:https://hopatcongpto.org/wp-content/uploads/2025/08/Ice-Cream-Social-2025-scaled.jpeg
END:VEVENT
BEGIN:VEVENT
DTSTART;VALUE=DATE:20250915
DTEND;VALUE=DATE:20250916
DTSTAMP:20260423T024250
CREATED:20250821T001441Z
LAST-MODIFIED:20250821T001441Z
UID:1857-1757894400-1757980799@hopatcongpto.org
SUMMARY:Fall Catalogue Distribution
DESCRIPTION:Please look for the Fall Catalogue fundraiser. It will be distributed on or around 9/15.
URL:https://hopatcongpto.org/event/fall-catalogue-distribution/
CATEGORIES:Fundraising
END:VEVENT
BEGIN:VEVENT
DTSTART;VALUE=DATE:20250915
DTEND;VALUE=DATE:20250920
DTSTAMP:20260423T024250
CREATED:20250820T233053Z
LAST-MODIFIED:20250820T233100Z
UID:1825-1757894400-1758326399@hopatcongpto.org
SUMMARY:Tulsa Fall Book Fair
DESCRIPTION:Tulsa Fall Book Fair. Information will be provided by Tulsa Trail School.
URL:https://hopatcongpto.org/event/tulsa-fall-book-fair/
LOCATION:Tulsa Trail School
CATEGORIES:Tulsa Trail School
END:VEVENT
BEGIN:VEVENT
DTSTART;TZID=UTC:20250916T180000
DTEND;TZID=UTC:20250916T180000
DTSTAMP:20260423T024250
CREATED:20250820T233205Z
LAST-MODIFIED:20250820T233558Z
UID:1827-1758045600-1758045600@hopatcongpto.org
SUMMARY:Durban Back to School
DESCRIPTION:Durban Back to School Night for parents!
URL:https://hopatcongpto.org/event/durban-back-to-school/
LOCATION:Dubran Ave School
CATEGORIES:Durban Ave School
END:VEVENT
BEGIN:VEVENT
DTSTART;TZID=UTC:20250917T180000
DTEND;TZID=UTC:20250917T180000
DTSTAMP:20260423T024250
CREATED:20250820T233302Z
LAST-MODIFIED:20250820T233609Z
UID:1829-1758132000-1758132000@hopatcongpto.org
SUMMARY:Tulsa Back to School
DESCRIPTION:Tulsa Back to School Night for parents!
URL:https://hopatcongpto.org/event/tulsa-back-to-school/
LOCATION:Tulsa Trail School
CATEGORIES:Tulsa Trail School
END:VEVENT
BEGIN:VEVENT
DTSTART;TZID=UTC:20250918T181500
DTEND;TZID=UTC:20250918T200000
DTSTAMP:20260423T024250
CREATED:20250820T233458Z
LAST-MODIFIED:20250820T233458Z
UID:1831-1758219300-1758225600@hopatcongpto.org
SUMMARY:Tulsa Book Fair Family Night
DESCRIPTION:Come join us for Family night for the book fair. There you can buy books for your children and also buy books off the teachers’ wish lists.
URL:https://hopatcongpto.org/event/tulsa-book-fair-family-night/
LOCATION:Tulsa Trail School
CATEGORIES:Tulsa Trail School
END:VEVENT
BEGIN:VEVENT
DTSTART;VALUE=DATE:20250923
DTEND;VALUE=DATE:20250924
DTSTAMP:20260423T024250
CREATED:20250820T233739Z
LAST-MODIFIED:20250820T233739Z
UID:1833-1758585600-1758671999@hopatcongpto.org
SUMMARY:4th & 5th Fall School Pictures
DESCRIPTION:Middle School 4th & 5th school pictures. Send your child in with their best smile!
URL:https://hopatcongpto.org/event/4th-5th-fall-school-pictures/
CATEGORIES:Middle School
END:VEVENT
BEGIN:VEVENT
DTSTART;VALUE=DATE:20250924
DTEND;VALUE=DATE:20250925
DTSTAMP:20260423T024250
CREATED:20250820T233812Z
LAST-MODIFIED:20250820T233812Z
UID:1835-1758672000-1758758399@hopatcongpto.org
SUMMARY:6th & 7th Fall School Pictures
DESCRIPTION:Middle School 6th & 7th school pictures. Send your child in with their best smile!
URL:https://hopatcongpto.org/event/6th-7th-fall-school-pictures/
CATEGORIES:Middle School
END:VEVENT
BEGIN:VEVENT
DTSTART;VALUE=DATE:20250929
DTEND;VALUE=DATE:20250930
DTSTAMP:20260423T024250
CREATED:20250820T234225Z
LAST-MODIFIED:20250820T234444Z
UID:1837-1759104000-1759190399@hopatcongpto.org
SUMMARY:Durban Fall School Pictures
DESCRIPTION:Durban fall school pictures. Send your child in with their best smile!
URL:https://hopatcongpto.org/event/durban-fall-school-pictures/
CATEGORIES:Durban Ave School
END:VEVENT
BEGIN:VEVENT
DTSTART;VALUE=DATE:20250929
DTEND;VALUE=DATE:20251004
DTSTAMP:20260423T024250
CREATED:20250820T234540Z
LAST-MODIFIED:20250820T234540Z
UID:1839-1759104000-1759535999@hopatcongpto.org
SUMMARY:Middle School Fall Book Fair
DESCRIPTION:Middle School fall book fair!
URL:https://hopatcongpto.org/event/middle-school-fall-book-fair/
CATEGORIES:Middle School
END:VEVENT
END:VCALENDAR