BEGIN:VCALENDAR
VERSION:2.0
PRODID:-//Hopatcong Elementary PTO - ECPv6.15.20//NONSGML v1.0//EN
CALSCALE:GREGORIAN
METHOD:PUBLISH
X-ORIGINAL-URL:https://hopatcongpto.org
X-WR-CALDESC:Events for Hopatcong Elementary PTO
REFRESH-INTERVAL;VALUE=DURATION:PT1H
X-Robots-Tag:noindex
X-PUBLISHED-TTL:PT1H
BEGIN:VTIMEZONE
TZID:UTC
BEGIN:STANDARD
TZOFFSETFROM:+0000
TZOFFSETTO:+0000
TZNAME:UTC
DTSTART:20240101T000000
END:STANDARD
END:VTIMEZONE
BEGIN:VEVENT
DTSTART;VALUE=DATE:20251105
DTEND;VALUE=DATE:20251106
DTSTAMP:20260422T224922
CREATED:20250821T143858Z
LAST-MODIFIED:20250821T143858Z
UID:1861-1762300800-1762387199@hopatcongpto.org
SUMMARY:Middle School Fall Pictures Make-Ups
DESCRIPTION:Middle School Fall Pictures Make-Ups
URL:https://hopatcongpto.org/event/middle-school-fall-pictures-make-ups/
CATEGORIES:Middle School
END:VEVENT
BEGIN:VEVENT
DTSTART;VALUE=DATE:20251107
DTEND;VALUE=DATE:20251109
DTSTAMP:20260422T224922
CREATED:20250821T143932Z
LAST-MODIFIED:20250821T143932Z
UID:1863-1762473600-1762646399@hopatcongpto.org
SUMMARY:Teachers' Convention- No School
DESCRIPTION:Teachers’ Convention- No School
URL:https://hopatcongpto.org/event/teachers-convention-no-school/
CATEGORIES:District
END:VEVENT
BEGIN:VEVENT
DTSTART;VALUE=DATE:20251110
DTEND;VALUE=DATE:20251113
DTSTAMP:20260422T224922
CREATED:20250821T144014Z
LAST-MODIFIED:20250821T144014Z
UID:1865-1762732800-1762991999@hopatcongpto.org
SUMMARY:Middle School Parent Teacher Conferences
DESCRIPTION:
URL:https://hopatcongpto.org/event/middle-school-parent-teacher-conferences/
CATEGORIES:Middle School
END:VEVENT
BEGIN:VEVENT
DTSTART;TZID=UTC:20251112T181500
DTEND;TZID=UTC:20251112T193000
DTSTAMP:20260422T224922
CREATED:20250821T144134Z
LAST-MODIFIED:20250821T144134Z
UID:1867-1762971300-1762975800@hopatcongpto.org
SUMMARY:HEPTO Meeting
DESCRIPTION:HEPTO General Meeting. Come join us for our meeting and share your thoughts and ideas. Meeting will be held in the library at Durban School.
URL:https://hopatcongpto.org/event/hepto-meeting-3/
CATEGORIES:HEPTO Meeting
END:VEVENT
BEGIN:VEVENT
DTSTART;VALUE=DATE:20251114
DTEND;VALUE=DATE:20251115
DTSTAMP:20260422T224922
CREATED:20250821T144213Z
LAST-MODIFIED:20250821T144617Z
UID:1869-1763078400-1763164799@hopatcongpto.org
SUMMARY:Tulsa Fall Pictures Make-Ups
DESCRIPTION:Tulsa Fall Pictures Make-Ups
URL:https://hopatcongpto.org/event/tulsa-fall-pictures-make-ups/
CATEGORIES:Tulsa Trail School
END:VEVENT
BEGIN:VEVENT
DTSTART;TZID=UTC:20251114T190000
DTEND;TZID=UTC:20251114T203000
DTSTAMP:20260422T224922
CREATED:20251003T004647Z
LAST-MODIFIED:20251003T004740Z
UID:2061-1763146800-1763152200@hopatcongpto.org
SUMMARY:Brain Games
DESCRIPTION:The Brain Show is an authentic educational trivia game show with the unique look and feel of a real live TV game show.
URL:https://hopatcongpto.org/event/brain-games/
LOCATION:High School Auditorium
CATEGORIES:HEPTO Free Events
ATTACH;FMTTYPE=image/jpeg:https://hopatcongpto.org/wp-content/uploads/2025/10/62AB10C2-EE5D-4A04-9CF7-F59902726629.jpg
END:VEVENT
BEGIN:VEVENT
DTSTART;VALUE=DATE:20251115
DTEND;VALUE=DATE:20251116
DTSTAMP:20260422T224922
CREATED:20250821T145904Z
LAST-MODIFIED:20250821T145904Z
UID:1873-1763164800-1763251199@hopatcongpto.org
SUMMARY:Family Picture Fundraiser
DESCRIPTION:Come use our backdrops to get some nice family photos! There will be volunteers available to help with photo taking. Time: TBD
URL:https://hopatcongpto.org/event/family-picture-fundraiser/
CATEGORIES:Fundraising
END:VEVENT
BEGIN:VEVENT
DTSTART;VALUE=DATE:20251126
DTEND;VALUE=DATE:20251127
DTSTAMP:20260422T224922
CREATED:20250821T150023Z
LAST-MODIFIED:20250821T150124Z
UID:1875-1764115200-1764201599@hopatcongpto.org
SUMMARY:Early Dismissal
DESCRIPTION:Early Dismissal for all schools
URL:https://hopatcongpto.org/event/early-dismissal/
CATEGORIES:District
END:VEVENT
BEGIN:VEVENT
DTSTART;VALUE=DATE:20251127
DTEND;VALUE=DATE:20251129
DTSTAMP:20260422T224922
CREATED:20250821T150056Z
LAST-MODIFIED:20250821T150056Z
UID:1877-1764201600-1764374399@hopatcongpto.org
SUMMARY:Thanksgiving Break- No School
DESCRIPTION:Thanksgiving Break- No School
URL:https://hopatcongpto.org/event/thanksgiving-break-no-school/
CATEGORIES:District
END:VEVENT
END:VCALENDAR