BEGIN:VCALENDAR
VERSION:2.0
PRODID:-//Hopatcong Elementary PTO - ECPv6.15.20//NONSGML v1.0//EN
CALSCALE:GREGORIAN
METHOD:PUBLISH
X-WR-CALNAME:Hopatcong Elementary PTO
X-ORIGINAL-URL:https://hopatcongpto.org
X-WR-CALDESC:Events for Hopatcong Elementary PTO
REFRESH-INTERVAL;VALUE=DURATION:PT1H
X-Robots-Tag:noindex
X-PUBLISHED-TTL:PT1H
BEGIN:VTIMEZONE
TZID:UTC
BEGIN:STANDARD
TZOFFSETFROM:+0000
TZOFFSETTO:+0000
TZNAME:UTC
DTSTART:20240101T000000
END:STANDARD
END:VTIMEZONE
BEGIN:VEVENT
DTSTART;TZID=UTC:20250605T080000
DTEND;TZID=UTC:20250605T123000
DTSTAMP:20260424T151820
CREATED:20250602T141546Z
LAST-MODIFIED:20250602T141546Z
UID:1673-1749110400-1749126600@hopatcongpto.org
SUMMARY:Field Day 2025 - Durban Ave
DESCRIPTION:Field Day for students at Durban Ave School is on Thursday\, June 5! \nActivities will be conducted until lunch time at approximately 12:20pm.
URL:https://hopatcongpto.org/event/field-day-2025-durban-ave/
LOCATION:High School Football Field\, 2A Windsor Ave\, Hopatcong\, NJ\, 07843\, United States
ATTACH;FMTTYPE=image/jpeg:https://hopatcongpto.org/wp-content/uploads/2025/06/Field-Day-2025.jpg
END:VEVENT
BEGIN:VEVENT
DTSTART;TZID=UTC:20250609T080000
DTEND;TZID=UTC:20250609T123000
DTSTAMP:20260424T151820
CREATED:20250602T135859Z
LAST-MODIFIED:20250602T135859Z
UID:1663-1749456000-1749472200@hopatcongpto.org
SUMMARY:Field Day 2025 - Tulsa Trail
DESCRIPTION:Field Day for students at Tulsa Trail School is on Monday\, June 9! \nPlease sign up here to help run the stations during this fun day planned for the kids. Volunteers are asked to report to the High School Football Field at 8am to assist with the preparation of the various events and reeive instructions from Mr. Collins\, the Physical Education teacher. Activities will be conducted until lunch time at approximately 12:20pm. \nRain date will be Tuesday\, June 10.
URL:https://hopatcongpto.org/event/field-day-2025-tulsa-trail/
LOCATION:High School Football Field\, 2A Windsor Ave\, Hopatcong\, NJ\, 07843\, United States
ATTACH;FMTTYPE=image/jpeg:https://hopatcongpto.org/wp-content/uploads/2025/06/Field-Day-2025.jpg
END:VEVENT
BEGIN:VEVENT
DTSTART;TZID=UTC:20250612T080000
DTEND;TZID=UTC:20250612T133000
DTSTAMP:20260424T151820
CREATED:20250602T140212Z
LAST-MODIFIED:20250602T140212Z
UID:1667-1749715200-1749735000@hopatcongpto.org
SUMMARY:Field Day 2025 - 4th / 5th / 6th Grades
DESCRIPTION:Hopatcong Middle School Families! Our 4th\, 5th & 6th graders have field day coming up!. \nThursday June 12th is the day! \nPlease sign up here to help run the stations during their fun filled field day! The time frame is 8:30 to 1:30. The students will start walking to the High School Football field and will start stations at 8:30. \nRain Date is Friday June 13th if the event gets moved.
URL:https://hopatcongpto.org/event/field-day-2025-4th-5th-6th-grades/
LOCATION:High School Football Field\, 2A Windsor Ave\, Hopatcong\, NJ\, 07843\, United States
ATTACH;FMTTYPE=image/jpeg:https://hopatcongpto.org/wp-content/uploads/2025/06/Field-Day-2025.jpg
END:VEVENT
BEGIN:VEVENT
DTSTART;TZID=UTC:20250616T080000
DTEND;TZID=UTC:20250616T100000
DTSTAMP:20260424T151820
CREATED:20250602T140827Z
LAST-MODIFIED:20250820T223544Z
UID:1669-1750060800-1750068000@hopatcongpto.org
SUMMARY:7th Grade Breakfast and Fun Day - 2025
DESCRIPTION:7th graders will be having breakfast and fun day on Monday June 16th. \nParents’ if you would like to be part of their last field day in middle school please sign up to volunteer here. We would like to provide a breakfast for the 7th graders. We could use help setting up\, distribution & clean up of the breakfast\, then volunteers with inflatable supervision & snack distribution at the field. \nThe breakfast donations can be dropped off at morning drop off to HEPTO member that will be by the drive up line for easy pick up. \nLocation: Middle School Cafeteria & Middle School Field \nTime : 8:00-9:00 am breakfast\, followed by field day activities. Then yearbooks and snacks in the afternoon. \nRain Date is June 17th.
URL:https://hopatcongpto.org/event/7th-grade-breakfast-and-fun-day-2025/
LOCATION:Middle School\, 1 David Road\, Hopatcong\, NJ\, 07843\, United States
ATTACH;FMTTYPE=image/jpeg:https://hopatcongpto.org/wp-content/uploads/2025/06/Field-Day-2025.jpg
END:VEVENT
END:VCALENDAR